Workbook

Sheet 契約分
AD1: 請求NO | AK1: ① | AL1: 請求NOは確認用に御社で必要な場合は入力ください | AV1: FALSE
B2: 請 求 書 | AL2: ※相殺ありの場合は杜企画からの請求書に記載しますので必ず記入下さい
AK3: ② | AL3: 請求日は送付日ではなくできるだけ締日の月末で作成お願いします
Y4: 請 求 日 | AL4: 請求書は月末締の翌月5日必着です。請求書2部（「経理控え」と「現場控え」）をお送り下さい。 | AV4: 切捨
C5: 杜企画株式会社 御中 | AV5: 切上
AK6: ③ | AL6: 取引先コード、工事コード、工事名が不明の場合は現場担当者に確認下さい | AV6: 四捨五入
C7: 工事コード | T7: 登録番号 | W7: T | AD7: 取引先ｺｰﾄﾞ | AL7: 工事名、工事コードは現場案内図の上部に記載されています
C8: 工事名 | V8: 〒 | AL8: インボイスの登録番号がない場合は「なし」と入力下さい
T9: 住 所
C10: 発注番号 | AK10: ④ | AL10: 発注番号は注文書に記載がある場合に入力下さい
T11: 会 社 名 | AI11: ㊞ | AL11: 2026年10月1日以降発行の注文書には記載があります
C12: 下記の通りご請求申し上げます | T12: 代表者名 | AK12: ⑤ | AL12: 請求対象期間を記入下さい
D13: 月分 | F13: （ | K13: ～ | P13: ） | T13: TEL | AB13: FAX | AL13: 例） 10月分 （10月1日～10月31日）
C14: 請求金額（税込） | AL14: 10月分 （10月5日～10月16日）
C15: =R28 -> 0 | T15: ー振込先ー | AL15: ※工事全体の期間ではなく今回の請求対象期間となります
T16: 銀行名 | AK16: ⑥ | AL16: 振込先はご登録いただいている口座を記載下さい
T17: 支店名
T18: 種 別 | Z18: 口座番号 | AK18: ⑦ | AL18: 現場担当者と確認の上、相殺がある場合は相殺ありに☑をつけて
D19: 相殺あり | G19: 控除額 | J19: =IF(相殺内訳!AF39=0,"",相殺内訳!AF39+相殺内訳!AF40) | Q19: ※ | T19: 口座名義 | AL19: 相殺確認書を提出下さい（相殺内訳の金額が相殺額に転記されます）
AL20: 杜企画から発行する請求書に記載しますので右上の請求NOを必ず記入下さい
C21: 請求回数 | N21: 回目 | T21: 支払条件 | AK21: ⑧ | AL21: 請求回数は、この注文に対する請求回数を記入下さい
C22: 出来高 | I22: 今回 | N22: ％ | U22: 支払日 | AA22: 年 | AE22: 月 | AH22: 日 | AL22: 同じ現場における別途工事は含みません
I23: 累計 | N23: ％ | U23: 現金 | AA23: ％ | AC23: でんさい | AH23: ％ | AK23: ⑨ | AL23: 支払条件は注文書に記載の条件を記入下さい
H25: 契約金額 | M25: 既請求金額 | R25: 今回請求金額 | W25: 累計請求額 | AB25: 増減金額 | AF25: 契約残額 | AK25: ⑩ | AL25: 契約金額と既請求金額を記入下さい
C26: 税抜金額 (10%対象） | R26: =AE39 -> 0 | W26: =M26+R26 -> 0 | AB26: =増減内訳!AF39 -> 0 | AF26: =H26-W26+AB26 -> 0 | AL26: 累計請求額と残額が正しく記載されているか確認下さい
C27: 消費税 | H27: =H26*0.1 -> 0 | M27: =M26*0.1 -> 0 | R27: =AE40 -> 0 | W27: =M27+R27 -> 0 | AB27: =増減内訳!AF40 -> 0 | AF27: =H27-W27+AB27 -> 0
C28: 税込金額 | H28: =H26+H27 -> 0 | M28: =M26+M27 -> 0 | R28: =R26+R27 -> 0 | W28: =W26+W27 -> 0 | AB28: =AB26+AB27 -> 0 | AF28: =AF26+AF27 -> 0
AK29: ⑪ | AL29: 契約金額に増減がある場合は現場担当者と確認の上
C30: 月 | D30: 日 | E30: 摘 要 | V30: 数量 | X30: 単位 | Z30: 単価 | AE30: 税抜 | AL30: 増減内訳書を提出下さい □増減内訳に☑をつけてください
AE31: =IF(Z31="","",V31*Z31) | AL31: 増減内訳書の金額が増減金額に転記されます
AE32: =IF(Z32="","",V32*Z32)
AE33: =IF(Z33="","",V33*Z33) | AK33: ⑫ | AL33: 今回請求金額の欄に転記されます
AE34: =IF(Z34="","",V34*Z34)
AE35: =IF(Z35="","",V35*Z35)
AE36: =IF(Z36="","",V36*Z36) | AK36: ⑬ | AL36: ※消費税端数処理を選択下さい
AE37: =IF(Z37="","",V37*Z37)
AE38: =IF(Z38="","",V38*Z38)
U39: ※ | V39: 消費税端数処理 | Z39: 10％対象 | AE39: =SUM(AE31:AI38) -> 0
C40: 決裁 | F40: 検印 | I40: 担当者 | L40: 経理 | V40: 切捨 | Z40: 消費税 | AE40: =IF(V40="切捨",ROUNDDOWN(AE39*0.1,0),IF(V40="切上",ROUNDUP(AE39*0.1,0),IF(V40="四捨五入",ROUND(AE39*0.1,0),"未選択"))) -> 0
AI41: ver.2026.9
...

Sheet 増減内訳
C1: 工事名 | F1: =IF(契約分!G8="","",契約分!G8) | AV1: FALSE
S2: 増減内訳書
AC3: 請求日 | AD3: =IF(契約分!AC4="","",契約分!AC4)
C4: 月 | D4: 日 | E4: 摘 要 | X4: 数量 | Z4: 単位 | AB4: 単価 | AF4: 税抜 | AK4: 金額が請求書の「増減金額」に転記されます | AV4: 切捨
C5: 12 | D5: 31 | AF5: =IF(AB5="","",X5*AB5) | AK5: 注文内容に変更のない追加工事については別途請求下さい | AV5: 切上
AF6: =IF(AB6="","",X6*AB6) | AK6: 現場担当者と確認の上、提出下さい | AV6: 四捨五入
AF7: =IF(AB7="","",X7*AB7) | AK7: このシートを削除すると請求書の書式が壊れます
AF8: =IF(AB8="","",X8*AB8)
AF9: =IF(AB9="","",X9*AB9)
AF10: =IF(AB10="","",X10*AB10)
AF11: =IF(AB11="","",X11*AB11)
AF12: =IF(AB12="","",X12*AB12)
AF13: =IF(AB13="","",X13*AB13)
AF14: =IF(AB14="","",X14*AB14)
AF15: =IF(AB15="","",X15*AB15)
AF16: =IF(AB16="","",X16*AB16)
AF17: =IF(AB17="","",X17*AB17)
AF18: =IF(AB18="","",X18*AB18)
AF19: =IF(AB19="","",X19*AB19)
... AF23: =IF(AB23="","",X23*AB23)
AF24: =IF(AB24="","",X24*AB24) | AV24: FALSE
AF25: =IF(AB25="","",X25*AB25)
AF26: =IF(AB26="","",X26*AB26)
AF27: =IF(AB27="","",X27*AB27) | AV27: 切捨
AF28: =IF(AB28="","",X28*AB28) | AV28: 切上
AF29: =IF(AB29="","",X29*AB29) | AV29: 四捨五入
AF30: =IF(AB30="","",X30*AB30)
AF31: =IF(AB31="","",X31*AB31)
AF32: =IF(AB32="","",X32*AB32)
AF33: =IF(AB33="","",X33*AB33)
AF34: =IF(AB34="","",X34*AB34)
AF35: =IF(AB35="","",X35*AB35)
AF36: =IF(AB36="","",X36*AB36)
AF37: =IF(AB37="","",X37*AB37)
AF38: =IF(AB38="","",X38*AB38)
W39: ※ | X39: 消費税端数処理 | AB39: 10％対象 | AF39: =SUM(AF5:AI38) -> 0
C40: 決裁 | F40: 検印 | I40: 担当者 | L40: 経理 | X40: 切捨 | AB40: 消費税 | AF40: =IF(X40="切捨",ROUNDDOWN(AF39*0.1,0),IF(X40="切上",ROUNDUP(AF39*0.1,0),IF(X40="四捨五入",ROUND(AF39*0.1,0),"未選択"))) -> 0
Z42: 杜企画株式会社 経理控え
Z43: 杜企画株式会社 現場控え
Z44: 協力会社控え

Sheet 相殺内訳
C1: 工事名 | F1: =IF(契約分!G8="","",契約分!G8) | AV1: FALSE
S2: 相殺確認書
AC3: 請求日 | AD3: =IF(契約分!AC4="","",契約分!AC4)
C4: 月 | D4: 日 | E4: 摘 要 | X4: 数量 | Z4: 単位 | AB4: 単価 | AF4: 税抜 | AK4: 現場担当者と確認の上、相殺がある場合は請求書の相殺ありに☑をつけて | AV4: 切捨
C5: 12 | D5: 31 | AF5: =IF(AB5="","",X5*AB5) | AK5: 相殺確認書を提出下さい（相殺内訳の金額が相殺額に転記されます） | AV5: 切上
AF6: =IF(AB6="","",X6*AB6) | AK6: 杜企画から請求書を発行しますので請求書の右上の請求NOを指定下さい | AV6: 四捨五入
AF7: =IF(AB7="","",X7*AB7)
AF8: =IF(AB8="","",X8*AB8) | AK8: このシートを削除すると請求書の書式が壊れます
AF9: =IF(AB9="","",X9*AB9)
AF10: =IF(AB10="","",X10*AB10)
AF11: =IF(AB11="","",X11*AB11)
AF12: =IF(AB12="","",X12*AB12)
AF13: =IF(AB13="","",X13*AB13)
AF14: =IF(AB14="","",X14*AB14)
AF15: =IF(AB15="","",X15*AB15)
AF16: =IF(AB16="","",X16*AB16)
AF17: =IF(AB17="","",X17*AB17)
AF18: =IF(AB18="","",X18*AB18)
AF19: =IF(AB19="","",X19*AB19)
AF20: =IF(AB20="","",X20*AB20)
AF21: =IF(AB21="","",X21*AB21)
AF22: =IF(AB22="","",X22*AB22) | AV22: FALSE
AF23: =IF(AB23="","",X23*AB23)
AF24: =IF(AB24="","",X24*AB24)
AF25: =IF(AB25="","",X25*AB25) | AV25: 切捨
AF26: =IF(AB26="","",X26*AB26) | AV26: 切上
AF27: =IF(AB27="","",X27*AB27) | AV27: 四捨五入
AF28: =IF(AB28="","",X28*AB28)
AF29: =IF(AB29="","",X29*AB29)
AF30: =IF(AB30="","",X30*AB30)
AF31: =IF(AB31="","",X31*AB31)
AF32: =IF(AB32="","",X32*AB32)
AF33: =IF(AB33="","",X33*AB33)
AF34: =IF(AB34="","",X34*AB34)
AF35: =IF(AB35="","",X35*AB35)
AF36: =IF(AB36="","",X36*AB36)
AF37: =IF(AB37="","",X37*AB37)
AF38: =IF(AB38="","",X38*AB38)
W39: ※ | X39: 消費税端数処理 | AB39: 10％対象 | AF39: =SUM(AF5:AI38) -> 0
C40: 決裁 | F40: 検印 | I40: 担当者 | L40: 経理 | X40: 切捨 | AB40: 消費税 | AF40: =IF(X40="切捨",ROUNDDOWN(AF39*0.1,0),IF(X40="切上",ROUNDUP(AF39*0.1,0),IF(X40="四捨五入",ROUND(AF39*0.1,0),"未選択"))) -> 0
...
